BEGIN:VCALENDAR
METHOD:PUBLISH
VERSION:2.0
CALSCALE:GREGORIAN
PRODID:-//NONSGML WPForms//NONSGML Sugar Calendar Feeds v3.11.0//EN
X-WR-CALNAME:51st Annual Utah Quilt Show
X-WR-CALDESC:Springville City
X-WR-TIMEZONE:America/Denver
BEGIN:VTIMEZONE
TZID:America/Denver
BEGIN:DAYLIGHT
TZOFFSETFROM:-0700
TZOFFSETTO:-0600
DTSTART:20250309T090000
TZNAME:MDT
END:DAYLIGHT
END:VTIMEZONE
BEGIN:VTIMEZONE
TZID:America/Denver
BEGIN:DAYLIGHT
TZOFFSETFROM:-0700
TZOFFSETTO:-0600
DTSTART:20250309T090000
TZNAME:MDT
END:DAYLIGHT
END:VTIMEZONE
BEGIN:VEVENT
SUMMARY:51st Annual Utah Quilt Show
DESCRIPTION:This juried exhibition features quilts of all styles and siz
 es created by some of the State’s finest quilters. Presented by the Sp
 ringville Museum of Art and the Utah Valley Quilt Guild with support fro
 m the Corn Wagon Quilt Company.
URL;VALUE=URI:https://www.springvilleutah.gov/events/51st-annual-utah-qu
 ilt-show/
UID:urn:uuid:5da00eb7-ccad-4474-bed6-97aeec405583
STATUS:CONFIRMED
ORGANIZER:
DTSTAMP:20260420T083021Z
DTSTART;VALUE=DATE:20250719
DTEND;VALUE=DATE:20250920
LOCATION:Springville Museum of Art\n126 East 400 South\nSpringville Utah
  84663
END:VEVENT
END:VCALENDAR