BEGIN:VCALENDAR
METHOD:PUBLISH
VERSION:2.0
CALSCALE:GREGORIAN
PRODID:-//NONSGML WPForms//NONSGML Sugar Calendar Feeds v3.11.0//EN
X-WR-CALNAME:City-Council-Meeting
X-WR-CALDESC:Springville City
X-WR-TIMEZONE:America/Denver
BEGIN:VTIMEZONE
TZID:America/Denver
BEGIN:STANDARD
TZOFFSETFROM:-0600
TZOFFSETTO:-0700
DTSTART:20261101T080000
TZNAME:MST
END:STANDARD
BEGIN:DAYLIGHT
TZOFFSETFROM:-0700
TZOFFSETTO:-0600
DTSTART:20270314T090000
TZNAME:MDT
END:DAYLIGHT
END:VTIMEZONE
BEGIN:VTIMEZONE
TZID:America/Denver
BEGIN:STANDARD
TZOFFSETFROM:-0600
TZOFFSETTO:-0700
DTSTART:20261101T080000
TZNAME:MST
END:STANDARD
BEGIN:DAYLIGHT
TZOFFSETFROM:-0700
TZOFFSETTO:-0600
DTSTART:20270314T090000
TZNAME:MDT
END:DAYLIGHT
END:VTIMEZONE
BEGIN:VEVENT
SUMMARY:City Council Meeting
DESCRIPTION:The list below shows only City Council Meetings that occur o
 n the third Tuesday of the month.
URL;VALUE=URI:https://www.springvilleutah.gov/blog/sc_recurring_event/ci
 ty-council-meeting-2-2/
UID:urn:uuid:07cf85f0-bd0e-4b10-9280-ddcd93683e03
STATUS:CONFIRMED
ORGANIZER:
DTSTAMP:20260419T164718Z
DTSTART;TZID=America/Denver:20270420T190000
DTEND;TZID=America/Denver:20270420T203000
RRULE:FREQ=MONTHLY;INTERVAL=1
END:VEVENT
END:VCALENDAR