BEGIN:VCALENDAR
METHOD:PUBLISH
VERSION:2.0
CALSCALE:GREGORIAN
PRODID:-//NONSGML WPForms//NONSGML Sugar Calendar Feeds v3.11.0//EN
X-WR-CALNAME:Closing - 53rd Annual Utah All-State High School Art Show
X-WR-CALDESC:Springville City
X-WR-TIMEZONE:America/Denver
BEGIN:VTIMEZONE
TZID:America/Denver
BEGIN:STANDARD
TZOFFSETFROM:-0600
TZOFFSETTO:-0700
DTSTART:20241103T080000
TZNAME:MST
END:STANDARD
BEGIN:DAYLIGHT
TZOFFSETFROM:-0700
TZOFFSETTO:-0600
DTSTART:20250309T090000
TZNAME:MDT
END:DAYLIGHT
END:VTIMEZONE
BEGIN:VTIMEZONE
TZID:America/Denver
BEGIN:STANDARD
TZOFFSETFROM:-0600
TZOFFSETTO:-0700
DTSTART:20241103T080000
TZNAME:MST
END:STANDARD
BEGIN:DAYLIGHT
TZOFFSETFROM:-0700
TZOFFSETTO:-0600
DTSTART:20250309T090000
TZNAME:MDT
END:DAYLIGHT
END:VTIMEZONE
BEGIN:VEVENT
SUMMARY:Closing - 53rd Annual Utah All-State High School Art Show
DESCRIPTION:Last chance to see 300+ works of art from about 100 high sch
 ools from across Utah. Don't miss this amazing show!
URL;VALUE=URI:https://www.springvilleutah.gov/events/closing-53rd-annual
 -utah-all-state-high-school-art-show/
UID:urn:uuid:4c624c58-6d10-41b2-8365-3d7166f450a6
STATUS:CONFIRMED
ORGANIZER:
DTSTAMP:20260420T083910Z
DTSTART;TZID=America/Denver:20250321T100000
DTEND;TZID=America/Denver:20250321T170000
LOCATION:Springville Museum of Art\n126 E 400 S\, Springville
END:VEVENT
END:VCALENDAR