BEGIN:VCALENDAR
METHOD:PUBLISH
VERSION:2.0
CALSCALE:GREGORIAN
PRODID:-//NONSGML WPForms//NONSGML Sugar Calendar Feeds v3.11.0//EN
X-WR-CALNAME:Free Car Seat Checkpoint
X-WR-CALDESC:Springville City
X-WR-TIMEZONE:America/Denver
BEGIN:VTIMEZONE
TZID:America/Denver
BEGIN:DAYLIGHT
TZOFFSETFROM:-0700
TZOFFSETTO:-0600
DTSTART:20260308T090000
TZNAME:MDT
END:DAYLIGHT
END:VTIMEZONE
BEGIN:VTIMEZONE
TZID:America/Boise
BEGIN:DAYLIGHT
TZOFFSETFROM:-0700
TZOFFSETTO:-0600
DTSTART:20260308T090000
TZNAME:MDT
END:DAYLIGHT
END:VTIMEZONE
BEGIN:VEVENT
SUMMARY:Free Car Seat Checkpoint
DESCRIPTION:Free car seat inspection checkpoint on May 16th from 10 am t
 o noon. Have your child's car seat checked for safety at the FREE car se
 at inspection station. Certified Child Passenger Safety Technicians will
  teach you how to install your car seat or booster seat correctly. Pleas
 e make an appointment online to reserve your spot. Please also bring you
 r child with you for proper fitting.
URL;VALUE=URI:https://www.springvilleutah.gov/events/free-car-seat-check
 point/
UID:urn:uuid:94ca688e-2078-4338-bbd4-06c55ac68e6a
STATUS:CONFIRMED
ORGANIZER:
DTSTAMP:20260422T161053Z
DTSTART;TZID=America/Boise:20260516T100000
DTEND;TZID=America/Boise:20260516T120000
LOCATION:110 S Main St\, Springville\, UT 84663
END:VEVENT
END:VCALENDAR