BEGIN:VCALENDAR
METHOD:PUBLISH
VERSION:2.0
CALSCALE:GREGORIAN
PRODID:-//NONSGML WPForms//NONSGML Sugar Calendar Feeds v3.11.0//EN
X-WR-CALNAME:Planning-Commission-Meeting
X-WR-CALDESC:Springville City
X-WR-TIMEZONE:America/Denver
BEGIN:VTIMEZONE
TZID:America/Denver
BEGIN:STANDARD
TZOFFSETFROM:-0600
TZOFFSETTO:-0700
DTSTART:20271107T080000
TZNAME:MST
END:STANDARD
END:VTIMEZONE
BEGIN:VTIMEZONE
TZID:America/Boise
BEGIN:STANDARD
TZOFFSETFROM:-0600
TZOFFSETTO:-0700
DTSTART:20271107T080000
TZNAME:MST
END:STANDARD
END:VTIMEZONE
BEGIN:VEVENT
SUMMARY:Planning Commission Meeting
DESCRIPTION:The list below shows only Planning Commission Meetings that 
 occur on the fourth Tuesday of the month.
URL;VALUE=URI:https://www.springvilleutah.gov/blog/sc_recurring_event/pl
 anning-commission-7-2/
UID:urn:uuid:e49fc765-0bfb-45c5-a696-20a9c01316b2
STATUS:CONFIRMED
ORGANIZER:
DTSTAMP:20260422T193821Z
DTSTART;TZID=America/Boise:20271123T190000
DTEND;TZID=America/Boise:20271123T203000
RRULE:FREQ=MONTHLY;INTERVAL=1
LOCATION:110 S Main St\, Springville\, UT 84663
END:VEVENT
END:VCALENDAR