BEGIN:VCALENDAR
METHOD:PUBLISH
VERSION:2.0
CALSCALE:GREGORIAN
PRODID:-//NONSGML WPForms//NONSGML Sugar Calendar Feeds v3.11.0//EN
X-WR-CALNAME:Summer Seals Swim Team Tryouts
X-WR-CALDESC:Springville City
X-WR-TIMEZONE:America/Denver
BEGIN:VTIMEZONE
TZID:America/Denver
BEGIN:STANDARD
TZOFFSETFROM:-0600
TZOFFSETTO:-0700
DTSTART:20251102T080000
TZNAME:MST
END:STANDARD
BEGIN:DAYLIGHT
TZOFFSETFROM:-0700
TZOFFSETTO:-0600
DTSTART:20260308T090000
TZNAME:MDT
END:DAYLIGHT
END:VTIMEZONE
BEGIN:VTIMEZONE
TZID:America/Boise
BEGIN:STANDARD
TZOFFSETFROM:-0600
TZOFFSETTO:-0700
DTSTART:20251102T080000
TZNAME:MST
END:STANDARD
BEGIN:DAYLIGHT
TZOFFSETFROM:-0700
TZOFFSETTO:-0600
DTSTART:20260308T090000
TZNAME:MDT
END:DAYLIGHT
END:VTIMEZONE
BEGIN:VEVENT
SUMMARY:Summer Seals Swim Team Tryouts
DESCRIPTION:Try outs for Summer Seals is today from 8:00 am - 11:00 am. 
 If you have not previously been on a Seals team\, please come and try ou
 t for the team. It usually just takes 10-15 minutes.
URL;VALUE=URI:https://www.springvilleutah.gov/events/summer-seals-swim-t
 eam-tryouts/
UID:urn:uuid:de319115-dfa3-4648-ac21-ca5d3427ef35
STATUS:CONFIRMED
ORGANIZER:
DTSTAMP:20260422T120133Z
DTSTART;TZID=America/Boise:20260425T080000
DTEND;TZID=America/Boise:20260425T110000
LOCATION:717 S 1200 W\, Springville\, UT 84663
END:VEVENT
END:VCALENDAR