BEGIN:VCALENDAR
METHOD:PUBLISH
VERSION:2.0
CALSCALE:GREGORIAN
PRODID:-//NONSGML WPForms//NONSGML Sugar Calendar Feeds v3.11.0//EN
X-WR-CALNAME:Swimming Lessons
X-WR-CALDESC:Springville City
X-WR-TIMEZONE:America/Denver
BEGIN:VTIMEZONE
TZID:America/Denver
BEGIN:DAYLIGHT
TZOFFSETFROM:-0700
TZOFFSETTO:-0600
DTSTART:20260308T090000
TZNAME:MDT
END:DAYLIGHT
END:VTIMEZONE
BEGIN:VTIMEZONE
TZID:America/Boise
BEGIN:DAYLIGHT
TZOFFSETFROM:-0700
TZOFFSETTO:-0600
DTSTART:20260308T090000
TZNAME:MDT
END:DAYLIGHT
END:VTIMEZONE
BEGIN:VEVENT
SUMMARY:Swimming Lessons
DESCRIPTION:Swim Lessons are going on this week from 9:00 am – 12:30 p
 m. Sign up online to reserve your spot! The slides will not be open on d
 ays that there are swim lessons.
URL;VALUE=URI:https://www.springvilleutah.gov/events/swimming-lessons-8/
UID:urn:uuid:ee61c13f-66be-4f63-b0af-53c82cfa9ea9
STATUS:CONFIRMED
ORGANIZER:
DTSTAMP:20260419T124430Z
DTSTART;TZID=America/Boise:20260615T090000
DTEND;TZID=America/Boise:20260619T123000
LOCATION:717 S 1200 W\, Springville\, UT 84663
END:VEVENT
END:VCALENDAR