BEGIN:VCALENDAR
METHOD:PUBLISH
VERSION:2.0
CALSCALE:GREGORIAN
PRODID:-//NONSGML WPForms//NONSGML Sugar Calendar Feeds v3.11.0//EN
X-WR-CALNAME:Parks and Recreation
X-WR-CALDESC:The Art City
X-WR-TIMEZONE:UTC
BEGIN:VTIMEZONE
TZID:UTC
BEGIN:STANDARD
TZOFFSETFROM:+0000
TZOFFSETTO:+0000
DTSTART:20220626T120000
TZNAME:UTC
END:STANDARD
END:VTIMEZONE
BEGIN:VTIMEZONE
TZID:UTC
BEGIN:STANDARD
TZOFFSETFROM:+0000
TZOFFSETTO:+0000
DTSTART:20220626T120000
TZNAME:UTC
END:STANDARD
END:VTIMEZONE
BEGIN:VEVENT
SUMMARY:Volleyball Registration- Spring
DESCRIPTION:
URL;VALUE=URI:https://www.springvilleutah.gov/parks-recreation/events/vo
 lleyball-registration-spring/
UID:urn:uuid:be78bc71-886b-41d3-856e-54258e700294
STATUS:CONFIRMED
ORGANIZER:
DTSTAMP:20260422T204849Z
DTSTART;VALUE=DATE:20221226
DTEND;VALUE=DATE:20230120
END:VEVENT
BEGIN:VEVENT
SUMMARY:Soccer Registration- Spring
DESCRIPTION:
URL;VALUE=URI:https://www.springvilleutah.gov/parks-recreation/events/so
 ccer-registration-spring/
UID:urn:uuid:3c88a62a-75b6-4a6a-ace7-2cd9ef535023
STATUS:CONFIRMED
ORGANIZER:
DTSTAMP:20260422T204849Z
DTSTART;VALUE=DATE:20230109
DTEND;VALUE=DATE:20230203
END:VEVENT
BEGIN:VEVENT
SUMMARY:Urban Fishing Registration- Session 1 (March/April)
DESCRIPTION:
URL;VALUE=URI:https://www.springvilleutah.gov/parks-recreation/events/ur
 ban-fishing-registration-session-1-march-april/
UID:urn:uuid:61f274e0-3418-4713-a3f2-6908a8d856c2
STATUS:CONFIRMED
ORGANIZER:
DTSTAMP:20260422T204849Z
DTSTART;VALUE=DATE:20230213
DTEND;VALUE=DATE:20230306
END:VEVENT
BEGIN:VEVENT
SUMMARY:Boys Baseball Registration (3rd-8th)
DESCRIPTION:
URL;VALUE=URI:https://www.springvilleutah.gov/parks-recreation/events/bo
 ys-baseball-registration-3rd-8th/
UID:urn:uuid:faf7074e-c5fc-45b5-98ee-ae347e3e73f0
STATUS:CONFIRMED
ORGANIZER:
DTSTAMP:20260422T204849Z
DTSTART;VALUE=DATE:20230213
DTEND;VALUE=DATE:20230317
END:VEVENT
BEGIN:VEVENT
SUMMARY:Girls Softball Registration (3rd-9th)
DESCRIPTION:
URL;VALUE=URI:https://www.springvilleutah.gov/parks-recreation/events/gi
 rls-softball-registration-3rd-9th/
UID:urn:uuid:854e97f0-afb1-40a0-af95-b2371907dcfc
STATUS:CONFIRMED
ORGANIZER:
DTSTAMP:20260422T204849Z
DTSTART;VALUE=DATE:20230213
DTEND;VALUE=DATE:20230317
END:VEVENT
BEGIN:VEVENT
SUMMARY:T-Ball &amp\; Coach Pitch Registration
DESCRIPTION:
URL;VALUE=URI:https://www.springvilleutah.gov/parks-recreation/events/t-
 ball-coach-pitch-registration/
UID:urn:uuid:22d61d2f-3944-4c3d-bed6-5327c8503fa3
STATUS:CONFIRMED
ORGANIZER:
DTSTAMP:20260422T204849Z
DTSTART;VALUE=DATE:20230213
DTEND;VALUE=DATE:20230421
END:VEVENT
BEGIN:VEVENT
SUMMARY:Urban Fishing Registration- Session 2 (April/May)
DESCRIPTION:
URL;VALUE=URI:https://www.springvilleutah.gov/parks-recreation/events/ur
 ban-fishing-registration-session-2-april-may/
UID:urn:uuid:ab26d0af-d175-4dd6-a4b8-705b4a59d527
STATUS:CONFIRMED
ORGANIZER:
DTSTAMP:20260422T204849Z
DTSTART;VALUE=DATE:20230228
DTEND;VALUE=DATE:20230331
END:VEVENT
BEGIN:VEVENT
SUMMARY:Urban Fishing Registration- Adaptive (April/May)
DESCRIPTION:
URL;VALUE=URI:https://www.springvilleutah.gov/parks-recreation/events/ur
 ban-fishing-registration-adaptive-april-may/
UID:urn:uuid:31167401-1c0d-437d-8936-8e1cc03a9cfe
STATUS:CONFIRMED
ORGANIZER:
DTSTAMP:20260422T204849Z
DTSTART;VALUE=DATE:20230228
DTEND;VALUE=DATE:20230331
END:VEVENT
BEGIN:VEVENT
SUMMARY:Track/Field Club Registration
DESCRIPTION:
URL;VALUE=URI:https://www.springvilleutah.gov/parks-recreation/events/tr
 ack-field-club-registration/
UID:urn:uuid:48abf3d5-91b4-4a6b-87d5-04c993be5fbc
STATUS:CONFIRMED
ORGANIZER:
DTSTAMP:20260422T204849Z
DTSTART;VALUE=DATE:20230301
DTEND;VALUE=DATE:20230331
END:VEVENT
BEGIN:VEVENT
SUMMARY:Adaptive Baseball Registration
DESCRIPTION:
URL;VALUE=URI:https://www.springvilleutah.gov/parks-recreation/events/ad
 aptive-baseball-registration/
UID:urn:uuid:69935300-4180-4646-b40e-2c695422f1dc
STATUS:CONFIRMED
ORGANIZER:
DTSTAMP:20260422T204849Z
DTSTART;VALUE=DATE:20230403
DTEND;VALUE=DATE:20230505
END:VEVENT
BEGIN:VEVENT
SUMMARY:High School Baseball &amp\; Softball Registration
DESCRIPTION:
URL;VALUE=URI:https://www.springvilleutah.gov/parks-recreation/events/hi
 gh-school-baseball-softball-registration/
UID:urn:uuid:3bd2b7b1-37aa-41d7-ae3d-adbdb7d7de3e
STATUS:CONFIRMED
ORGANIZER:
DTSTAMP:20260422T204849Z
DTSTART;VALUE=DATE:20230403
DTEND;VALUE=DATE:20230505
END:VEVENT
BEGIN:VEVENT
SUMMARY:Tennis Lessons Registration (Ages 8-18)
DESCRIPTION:
URL;VALUE=URI:https://www.springvilleutah.gov/parks-recreation/events/te
 nnis-lessons-registration-ages-8-18/
UID:urn:uuid:4d3bd837-c353-4ef9-ae90-a8c289f75745
STATUS:CONFIRMED
ORGANIZER:
DTSTAMP:20260422T204849Z
DTSTART;VALUE=DATE:20230417
DTEND;VALUE=DATE:20230531
END:VEVENT
BEGIN:VEVENT
SUMMARY:Tennis League Registration
DESCRIPTION:
URL;VALUE=URI:https://www.springvilleutah.gov/parks-recreation/events/te
 nnis-league-registration/
UID:urn:uuid:2f121d1e-f793-467b-b9b0-81163605e9d6
STATUS:CONFIRMED
ORGANIZER:
DTSTAMP:20260422T204849Z
DTSTART;VALUE=DATE:20230417
DTEND;VALUE=DATE:20230531
END:VEVENT
BEGIN:VEVENT
SUMMARY:Tackle Football Registration (3rd-9th Grade)
DESCRIPTION:
URL;VALUE=URI:https://www.springvilleutah.gov/parks-recreation/events/ta
 ckle-football-registration-3rd-9th-grade/
UID:urn:uuid:abd7419b-dba0-4c78-b9aa-02a6c4f28141
STATUS:CONFIRMED
ORGANIZER:
DTSTAMP:20260422T204849Z
DTSTART;VALUE=DATE:20230515
DTEND;VALUE=DATE:20230816
END:VEVENT
BEGIN:VEVENT
SUMMARY:Outdoor Adventure Camp
DESCRIPTION:
URL;VALUE=URI:https://www.springvilleutah.gov/parks-recreation/events/ou
 tdoor-adventure-camp/
UID:urn:uuid:5caac114-34b7-443b-af17-637525da54ac
STATUS:CONFIRMED
ORGANIZER:
DTSTAMP:20260422T204849Z
DTSTART;VALUE=DATE:20230522
DTEND;VALUE=DATE:20230612
END:VEVENT
BEGIN:VEVENT
SUMMARY:Youth Soccer- Fall
DESCRIPTION:
URL;VALUE=URI:https://www.springvilleutah.gov/parks-recreation/events/yo
 uth-soccer-fall/
UID:urn:uuid:df20bba0-278b-412a-8164-2cfda8c9bb01
STATUS:CONFIRMED
ORGANIZER:
DTSTAMP:20260422T204849Z
DTSTART;VALUE=DATE:20230601
DTEND;VALUE=DATE:20230630
END:VEVENT
BEGIN:VEVENT
SUMMARY:Flag Football Registration (1st-6th)
DESCRIPTION:
URL;VALUE=URI:https://www.springvilleutah.gov/parks-recreation/events/fl
 ag-football-registration-1st-6th/
UID:urn:uuid:84963e9e-bfca-4721-aca9-96e1ff72afc7
STATUS:CONFIRMED
ORGANIZER:
DTSTAMP:20260422T204849Z
DTSTART;VALUE=DATE:20230601
DTEND;VALUE=DATE:20230707
END:VEVENT
BEGIN:VEVENT
SUMMARY:Flag Football Registration (7th-12th)
DESCRIPTION:
URL;VALUE=URI:https://www.springvilleutah.gov/parks-recreation/events/fl
 ag-football-registration-7th-12th/
UID:urn:uuid:ae9c9c65-42ba-4236-957f-267e81434c0c
STATUS:CONFIRMED
ORGANIZER:
DTSTAMP:20260422T204849Z
DTSTART;VALUE=DATE:20230601
DTEND;VALUE=DATE:20230728
END:VEVENT
BEGIN:VEVENT
SUMMARY:Co-Ed High School Flag Football
DESCRIPTION:
URL;VALUE=URI:https://www.springvilleutah.gov/parks-recreation/events/co
 -ed-high-school-flag-football/
UID:urn:uuid:3ddf1499-3151-4d6d-8140-501cf42e6b4f
STATUS:CONFIRMED
ORGANIZER:
DTSTAMP:20260422T204849Z
DTSTART;TZID=UTC:20230215T000000
DTEND;TZID=UTC:20230327T000000
END:VEVENT
END:VCALENDAR